BEGIN:VCALENDAR
VERSION:2.0
PRODID:-//eventon.com NONSGML v1.0//EN
BEGIN:VEVENT
UID:69e72e6ad01e8
DTSTAMP:20260421T075938
DTSTART:20140721T000000Z
DTEND:20140721T000000Z
TZID:UTC
LOCATION:
SUMMARY:Camerata Aberta - Campos do Jordao Festival (Brazil)
DESCRIPTION: \nhttps://www.guillaume-bourgogne.com/events/camerata-aberta-campos-do-jordao-festival-brazil
URL:https://www.guillaume-bourgogne.com/events/camerata-aberta-campos-do-jordao-festival-brazil
END:VEVENT
END:VCALENDAR