BEGIN:VCALENDAR
VERSION:2.0
PRODID:-//eventon.com NONSGML v1.0//EN
BEGIN:VEVENT
UID:69e72df9ee17c
DTSTAMP:20260421T075745
DTSTART:20140226T000000Z
DTEND:20140226T000000Z
TZID:UTC
LOCATION:
SUMMARY:Op.Cit : Le Cabaret Lunaire - Théâtre de la Renaissance - Oullins
DESCRIPTION: &nbsp; http://player.vimeo.com/video/74052785?color=fffff\nhttps://www.guillaume-bourgogne.com/events/op-cit-le-cabaret-lunaire-theatre-de-la-renaissance-oullins-2
URL:https://www.guillaume-bourgogne.com/events/op-cit-le-cabaret-lunaire-theatre-de-la-renaissance-oullins-2
END:VEVENT
END:VCALENDAR