BEGIN:VCALENDAR
VERSION:2.0
PRODID:-//eventon.com NONSGML v1.0//EN
BEGIN:VEVENT
UID:69e76a156d488
DTSTAMP:20260421T121413
DTSTART:20130811T000000Z
DTEND:20130811T000000Z
TZID:UTC
LOCATION:
SUMMARY:Op.Cit : Le Cabaret Lunaire - Festival "Les nuits d'été"
DESCRIPTION: Schönberg : Pierrot Lunaire (version française) Jessica Martin-Maresco\,  récit Ensemble Op.Cit &nbsp;\nhttps://www.guillaume-bourgogne.com/events/op-cit-lunaire-kabarett-festival-les-nuits-dete
URL:https://www.guillaume-bourgogne.com/events/op-cit-lunaire-kabarett-festival-les-nuits-dete
END:VEVENT
END:VCALENDAR