BEGIN:VCALENDAR
VERSION:2.0
PRODID:-//eventon.com NONSGML v1.0//EN
BEGIN:VEVENT
UID:69e72e1a04d96
DTSTAMP:20260421T075818
DTSTART:20130825T000000Z
DTEND:20130825T000000Z
TZID:UTC
LOCATION:
SUMMARY:Orquestra Jovem do Estado de São Paulo
DESCRIPTION: &nbsp; BARTOK : Le Mandarin Merveilleux RACHMANINOV : Danses symphoniques RAVEL : Concerto en sol &#8211; soliste : Emmanuel Strosser\nhttps://www.guillaume-bourgogne.com/events/orquestra-jovem-do-estado-de-sao-paulo
URL:https://www.guillaume-bourgogne.com/events/orquestra-jovem-do-estado-de-sao-paulo
END:VEVENT
END:VCALENDAR