BEGIN:VCALENDAR
VERSION:2.0
PRODID:-//eventon.com NONSGML v1.0//EN
BEGIN:VEVENT
UID:69e72e622596a
DTSTAMP:20260421T075930
DTSTART:20131119T000000Z
DTEND:20131119T000000Z
TZID:UTC
LOCATION:
SUMMARY:Camerata Aberta - São Paulo
DESCRIPTION: &nbsp;\nhttps://www.guillaume-bourgogne.com/events/camerata-aberta-sao-paulo-2
URL:https://www.guillaume-bourgogne.com/events/camerata-aberta-sao-paulo-2
END:VEVENT
END:VCALENDAR