BEGIN:VCALENDAR
VERSION:2.0
PRODID:-//eventon.com NONSGML v1.0//EN
BEGIN:VEVENT
UID:69e72df887e5f
DTSTAMP:20260421T075744
DTSTART:20120807T000000Z
DTEND:20120807T000000Z
TZID:UTC
LOCATION:
SUMMARY:Festival « Les Nuits d’été » (Savoie) 
DESCRIPTION: Kagel. Orchestre du festival\nhttps://www.guillaume-bourgogne.com/events/festival-les-nuits-dete-savoie
URL:https://www.guillaume-bourgogne.com/events/festival-les-nuits-dete-savoie
END:VEVENT
END:VCALENDAR