BEGIN:VCALENDAR
VERSION:2.0
PRODID:-//eventon.com NONSGML v1.0//EN
BEGIN:VEVENT
UID:69e72e73a0020
DTSTAMP:20260421T075947
DTSTART:20260521T180000Z
DTEND:20260521T215000Z
TZID:Europe/Paris
LOCATION:Théâtre de Cornouaille 
SUMMARY:WhatsPop (Aurélien Dumont)
DESCRIPTION: Aurélien Dumont     WhatsPop Ensemble Cairn Juliette Allen\,  soprano en savoir + &nbsp; &nbsp; &nbsp; &nbsp; &nbsp; &nbsp;\nhttps://www.guillaume-bourgogne.com/events/whatspop-3
URL:https://www.guillaume-bourgogne.com/events/whatspop-3
END:VEVENT
END:VCALENDAR