BEGIN:VCALENDAR
VERSION:2.0
PRODID:-//eventon.com NONSGML v1.0//EN
BEGIN:VEVENT
UID:69e72e974c696
DTSTAMP:20260421T080023
DTSTART:20260307T060000Z
DTEND:20260307T105000Z
TZID:Pacific/Midway
LOCATION:Théâtre 2.21 
SUMMARY:Tout sur la musique - Pesson\,  Alessandrini
DESCRIPTION: Patricia Alessandrini      Parlour Sounds pour soprano\,  ensemble et électronique Gérard Pesson        Tout sur la musique    théâtre musical (création mondiale) &nbsp;\nhttps://www.guillaume-bourgogne.com/events/tout-sur-la-musique-2
URL:https://www.guillaume-bourgogne.com/events/tout-sur-la-musique-2
END:VEVENT
END:VCALENDAR