BEGIN:VCALENDAR
VERSION:2.0
PRODID:-//eventon.com NONSGML v1.0//EN
BEGIN:VEVENT
UID:69e72e973acba
DTSTAMP:20260421T080023
DTSTART:20230930T163000Z
DTEND:20230930T215000Z
TZID:Europe/Paris
LOCATION:Palais des fêtes 
SUMMARY:Memento - Jérôme Combier
DESCRIPTION: Jérôme Combier       Memento\,  cycle pour ensemble\nhttps://www.guillaume-bourgogne.com/events/jerome-combier-memento
URL:https://www.guillaume-bourgogne.com/events/jerome-combier-memento
END:VEVENT
END:VCALENDAR