BEGIN:VCALENDAR
VERSION:2.0
PRODID:-//eventon.com NONSGML v1.0//EN
BEGIN:VEVENT
UID:69e72e6aed73a
DTSTAMP:20260421T075938
DTSTART:20210318T200000Z
DTEND:20210318T235000Z
TZID:UTC
LOCATION:Centre Georges Pompidou 
SUMMARY:Ensemble C Barré
DESCRIPTION: Ensemble C Barré Guillaume Bourgogne direction Benjamin Lévy (Ircam)\,  Charles Bascou (gmem-CNCM Marseille) réalisation informatique musicale &nbsp; Mikel Urquiza Lavorare stanca\,  commande de l’Ensemble C Barré — création 2021 Giulia Lorusso Fabrica — création 2021 Francisco Alvarado Je ne suis qu&#8217;une voix— création 2021 Francesca Verunelli Five Songs (Kafka’s Sirens) En savoir plus View streaming[..]\nhttps://www.guillaume-bourgogne.com/events/ensemble-c-barre
URL:https://www.guillaume-bourgogne.com/events/ensemble-c-barre
END:VEVENT
END:VCALENDAR