BEGIN:VCALENDAR
VERSION:2.0
PRODID:-//eventon.com NONSGML v1.0//EN
BEGIN:VEVENT
UID:69e72e73eb698
DTSTAMP:20260421T075947
DTSTART:20190607T000000Z
DTEND:20190607T235000Z
TZID:UTC
LOCATION:Institut Jacques Dalcroze rue de la Terrassière 44
SUMMARY:Ensemble 21 de la Haute École de Musique de Genève
DESCRIPTION: Nicolas Roulive Suicide circus\,  pour clarinette basse\,  violoncelle\,  ensemble et électronique Xavier Palàs i Nosàs I like you a lot  &#8211; d’après “Aspect of Katie Ishtar Yo-Landi” by Damien Hirst\,  pour grand ensemble\,  trombone soliste et électronique Benjamin Gueit Le Viol du chasseur\,   pour ensemble Sergio Núñez Meneses   Trame[..]\nhttps://www.guillaume-bourgogne.com/events/ensemble-21-de-la-haute-ecole-de-musique-de-geneve
URL:https://www.guillaume-bourgogne.com/events/ensemble-21-de-la-haute-ecole-de-musique-de-geneve
END:VEVENT
END:VCALENDAR