BEGIN:VCALENDAR
VERSION:2.0
PRODID:-//eventon.com NONSGML v1.0//EN
BEGIN:VEVENT
UID:69e72ec2217dd
DTSTAMP:20260421T080106
DTSTART:20190309
DTEND:20190309
TZID:UTC
LOCATION:Opéra de Lille 
SUMMARY:Cairn à l'Opéra de Lille
DESCRIPTION: Gérard Pesson &#8211; Carmagnole\nhttps://www.guillaume-bourgogne.com/events/cairn-a-lopera-de-lille
URL:https://www.guillaume-bourgogne.com/events/cairn-a-lopera-de-lille
END:VEVENT
END:VCALENDAR