BEGIN:VCALENDAR
VERSION:2.0
PRODID:-//eventon.com NONSGML v1.0//EN
BEGIN:VEVENT
UID:69e72ea2b41db
DTSTAMP:20260421T080034
DTSTART:20181123T155000Z
DTEND:20181123T155000Z
TZID:UTC
LOCATION:Salle Claude-Champagne 220 Av Vincent-d'Indy\,  Montréal QC\,  Canada
SUMMARY:live@CIRMMT
DESCRIPTION: Brice Gatinet\,  compositions\nhttps://www.guillaume-bourgogne.com/events/livecirmmt
URL:https://www.guillaume-bourgogne.com/events/livecirmmt
END:VEVENT
END:VCALENDAR