BEGIN:VCALENDAR
VERSION:2.0
PRODID:-//eventon.com NONSGML v1.0//EN
BEGIN:VEVENT
UID:69e72ea42b589
DTSTAMP:20260421T080036
DTSTART:20190412T193000Z
DTEND:20190412T235000Z
TZID:UTC
LOCATION:Pollack Hall - McGill University (Montreal) 555\,  rue Sherbrooke Ouest\,  Montréal
SUMMARY:McGill Contemporary Music Ensemble
DESCRIPTION: Works by Unsuk Chin\,  Chris Paul Harman\,  Kurt Weill (arr. Luciano Berio) & Dominique Lafortune\nhttps://www.guillaume-bourgogne.com/events/mcgill-contemporary-music-ensemble-20
URL:https://www.guillaume-bourgogne.com/events/mcgill-contemporary-music-ensemble-20
END:VEVENT
END:VCALENDAR