BEGIN:VCALENDAR
VERSION:2.0
PRODID:-//eventon.com NONSGML v1.0//EN
BEGIN:VEVENT
UID:69e72e099adfc
DTSTAMP:20260421T075801
DTSTART:20150711T013000Z
DTEND:20150711T013000Z
TZID:UTC
LOCATION:Cité de la Musique Strasbourg
SUMMARY:Ensembles Linea & Proxima Centauri - Strasbourg
DESCRIPTION: New works by Kenji Sakai\,  José Manuel Lopez Lopez\,  Alex Mincek & Nicolas Tzortzis\nhttps://www.guillaume-bourgogne.com/events/ensembles-linea-proxima-centauri-strasbourg-copy
URL:https://www.guillaume-bourgogne.com/events/ensembles-linea-proxima-centauri-strasbourg-copy
END:VEVENT
END:VCALENDAR